BEGIN:VCALENDAR
VERSION:2.0
PRODID:-//Lombardi Music - ECPv6.15.20//NONSGML v1.0//EN
CALSCALE:GREGORIAN
METHOD:PUBLISH
X-WR-CALNAME:Lombardi Music
X-ORIGINAL-URL:https://www.listal.it
X-WR-CALDESC:Eventi per Lombardi Music
REFRESH-INTERVAL;VALUE=DURATION:PT1H
X-Robots-Tag:noindex
X-PUBLISHED-TTL:PT1H
BEGIN:VTIMEZONE
TZID:Europe/Rome
BEGIN:DAYLIGHT
TZOFFSETFROM:+0100
TZOFFSETTO:+0200
TZNAME:CEST
DTSTART:20150329T010000
END:DAYLIGHT
BEGIN:STANDARD
TZOFFSETFROM:+0200
TZOFFSETTO:+0100
TZNAME:CET
DTSTART:20151025T010000
END:STANDARD
BEGIN:DAYLIGHT
TZOFFSETFROM:+0100
TZOFFSETTO:+0200
TZNAME:CEST
DTSTART:20160327T010000
END:DAYLIGHT
BEGIN:STANDARD
TZOFFSETFROM:+0200
TZOFFSETTO:+0100
TZNAME:CET
DTSTART:20161030T010000
END:STANDARD
BEGIN:DAYLIGHT
TZOFFSETFROM:+0100
TZOFFSETTO:+0200
TZNAME:CEST
DTSTART:20170326T010000
END:DAYLIGHT
BEGIN:STANDARD
TZOFFSETFROM:+0200
TZOFFSETTO:+0100
TZNAME:CET
DTSTART:20171029T010000
END:STANDARD
END:VTIMEZONE
BEGIN:VEVENT
DTSTART;TZID=Europe/Rome:20160924T220000
DTEND;TZID=Europe/Rome:20160925T060000
DTSTAMP:20260419T230453
CREATED:20160918T113637Z
LAST-MODIFIED:20160920T160723Z
UID:1526-1474754400-1474783200@www.listal.it
SUMMARY:Jerbéras Hip Hop Night
DESCRIPTION:Jerbéras Hip Hop Night \nGraditissimo ritorno Hip Hop al Jerbéras! \nOspite da Amsterdam “Casto“\, apprezzatissimo M.C. della scena underground olandese. \n\n\nA fare gli onori di casa Bob Marcialledda da Fasano\, Giurg da Locorotondo & Pepe da Fasano. \nSpazio per breakers ed mcs!\nJerbéras Hip Hop Night – Locandina \nLINE UP\nSpecial Guest:\nCasto Man [ Amsterdam ]\nOpen act:\nBob Marcialledda\nBlack Music Selection:\nGiurg & Pepe\nALL NIGHT LONG\n☎ Info Prenotazioni\no\nClicca QUI (o compila il form in basso)Giando (Telegram) [1° canale preferito]\ne/o +393339446827 (WhatsApp) [2° canale preferito]\n\n← Precedente Grazie per la risposta. ✨\n\n\n					\n						\n							\n							\n						\n						\n						\n						\n						\n							\n								\n									\n										\n										\n									\n									\n										\n										\n									\n								\n							\n						\n						\n							\n								\n									\n									\n										\n									\n									\n									\n								\n							\n						\n					\n				\n\n\n\nNome e Cognome(obbligatorio)\n\n \n			\n				\n					\n						\n						\n						\n					\n				\n				\n			 \n	\n\n\nE-mail(obbligatorio)\n\n \n			\n				\n					\n						\n						\n						\n					\n				\n				\n			 \n	\n\n\nN° telefonico e/o WhatsApp(obbligatorio)\n\n \n			\n				\n					\n						\n						\n						\n					\n				\n				\n			 \n	\n\n\nSito web\n\n \n			\n				\n					\n						\n						\n						\n					\n				\n				\n			 \n	\n\n\nRichiesta(obbligatorio)\n\n \n			\n				\n					\n						\n						\n						\n					\n				\n				\n			\n	\n	\n\n				\n					\n				\n						Invia		\n		\n		\n	 \nΔ \n\n\nPowered by Jerbéras\nSupported by Concept Groove / Lombardi Music / Techno Clubber / Eventi Techno & After Puglia – Brindisi Bari Taranto + Province and many more… (contact for support)\nService: PAtechnologies\nGraphics: Lombardit.IT – Information Technology\nWeb Marketing: L1S.IT by L1T.IT \nLINK EVENTO\n· Facebook: http://on.Jerberas.IT/20160924fb\n· Resident Advisor: http://on.Jerberas.IT/20160924ra \nPROFILI SOCIAL\n· Web: www.Jerberas.IT\n· Twitter: Twitter.com/Jerberas\n· Telegram: Telegram.me/Jerberas\n· Instagram: Instagram.com/Jerberas\n· Soundcloud: Soundcloud.com/Jerberas\n· Resident Advisor: on.Jerberas.IT/JRALink\n· Linkedin: Linkedin.com/company/jerbéras \nPer ricevere le notifiche di tutti gli eventi iscriviti al gruppo Amici del Jerbéras Club!
URL:https://www.listal.it/event/20160924-jerberas-hip-hop-night/
LOCATION:Jerbéras Club\, Viale Toledo\, 4\, Selva di Fasano\, BR\, 72010\, Italia
CATEGORIES:Brindisi,Elettronica,Hip hop,Musica,Puglia,Selva di Fasano
ATTACH;FMTTYPE=image/jpeg:https://www.listal.it/sito/wp-content/uploads/2016/09/20160924_web_play.jpg
ORGANIZER;CN="Jerb%C3%A9ras":MAILTO:Info@Jerberas.IT
GEO:40.829059;17.320134
X-APPLE-STRUCTURED-LOCATION;VALUE=URI;X-ADDRESS=Jerbéras Club Viale Toledo 4 Selva di Fasano BR 72010 Italia;X-APPLE-RADIUS=500;X-TITLE=Viale Toledo\, 4:geo:17.320134,40.829059
END:VEVENT
BEGIN:VEVENT
DTSTART;TZID=Europe/Rome:20160715T160000
DTEND;TZID=Europe/Rome:20160919T030000
DTSTAMP:20260419T230453
CREATED:20160719T133926Z
LAST-MODIFIED:20160720T021630Z
UID:1460-1468598400-1474254000@www.listal.it
SUMMARY:Summer Program 2016 @ Jerbéras
DESCRIPTION:L’estate è pienamente iniziata\, e con lei il grande divertimento TUTTE LE SERE al Jerbéras SUMMER EDITION! \nSummer Program 2016 @ Jerbéras \nE non è tutto\, perché se ancora qualcuno non lo sapesse\, il Jerbéras è aperto TUTTI I POMERIGGI\, in FREE ENTRY\, dalle 16:00\, con il suo fantastico Happy Hour Musicale\, per offrire ottimi drink & food a tutti gli Amici del Jerbéras Club a ritmo di buona musica! \nSiamo fieri di pubblicare parte del PROGRAMMA ESTATE 2016\, a cui si aggiungeranno altre numerose ospitate\, che rettificheremo a breve.\nSeguite l’evento ufficiale su Facebook\, per essere aggiornati! \n\n\nSUMMER PROGRAM 2016 @ Jerbéras\nLUGLIO\n• Venerdì 15.7 WILD NIGHT w/ Resident\n• Sabato 16.7 DJ SET w/ Resident\n• Venerdì 22.7 WILD NIGHT w/ Guest + Resident\n• Sabato 23.7 Moustache Prawn Something is Growing Tour 2016 @Jerbéras + Sound Borderline + After Show\n• Venerdì 29.7 WILD NIGHT w/ Guest + Resident\n• Sabato 30.7 Pink Floyd Tribute Band “Black Diamond” + The Permanent + Guest \nAGOSTO\n• Venerdì 5.8 WILD NIGHT w/ Guest + Resident\n• Sabato 6.8 Alter Ego + Guest\n• Venerdì 12.8 WILD NIGHT w/ Guest + Resident\n• Sabato 13.8 Nirvana Tribute Band + Resident\n• Venerdì 19.8 WILD NIGHT w/ Guest + Resident\n• Sabato 20.8 Band + Guest\n• Domenica 21.8 Hip hop Contest Free Style\n• Venerdì 26.8 WILD NIGHT w/ Guest + Resident\n• Sabato 27.8 Cover Band + Guest \nSETTEMBRE\n• T.B.A. \nAND MORE T.B.A. \nAPERTO TUTTI I GIORNI dalle 16:00 fino a NOTTE FONDA \nINGRESSO LIBERO\n☎ Info Prenotazioni\no\nClicca QUI (o compila il form in basso)Giando (Telegram) [1° canale preferito]\ne/o +393339446827 (WhatsApp) [2° canale preferito]\n\n← Precedente Grazie per la risposta. ✨\n\n\n					\n						\n							\n							\n						\n						\n						\n						\n						\n							\n								\n									\n										\n										\n									\n									\n										\n										\n									\n								\n							\n						\n						\n							\n								\n									\n									\n										\n									\n									\n									\n								\n							\n						\n					\n				\n\n\n\nNome e Cognome(obbligatorio)\n\n \n			\n				\n					\n						\n						\n						\n					\n				\n				\n			 \n	\n\n\nE-mail(obbligatorio)\n\n \n			\n				\n					\n						\n						\n						\n					\n				\n				\n			 \n	\n\n\nN° telefonico e/o WhatsApp(obbligatorio)\n\n \n			\n				\n					\n						\n						\n						\n					\n				\n				\n			 \n	\n\n\nSito web\n\n \n			\n				\n					\n						\n						\n						\n					\n				\n				\n			 \n	\n\n\nRichiesta(obbligatorio)\n\n \n			\n				\n					\n						\n						\n						\n					\n				\n				\n			\n	\n	\n\n				\n					\n				\n						Invia		\n		\n		\n	 \nΔ \n\n\nPowered by Jerbéras\nSupported by Concept Groove / Lombardi Music / Techno Clubber / Eventi Techno & After Puglia – Brindisi Bari Taranto + Province and many more… (contact for support)\nService: PAtechnologies\nGraphics: Lombardit.IT – Information Technology\nWeb Marketing: L1S.IT by L1T.IT \nLINK EVENTO\n· Facebook: http://on.Jerberas.IT/20160708fb \nPROFILI SOCIAL\n· Web: www.Jerberas.IT\n· Twitter: Twitter.com/Jerberas\n· Telegram: Telegram.me/Jerberas\n· Instagram: Instagram.com/Jerberas\n· Soundcloud: Soundcloud.com/Jerberas\n· Resident Advisor: on.Jerberas.IT/JRALink\n· Linkedin: Linkedin.com/company/jerbéras \nPer ricevere le notifiche di tutti gli eventi iscriviti al gruppo Amici del Jerbéras Club!
URL:https://www.listal.it/event/20160708-summer-program-2016-jerberas-selva-fasano-brindisi/
LOCATION:Jerbéras Club\, Viale Toledo\, 4\, Selva di Fasano\, BR\, 72010\, Italia
CATEGORIES:Brindisi,Commerciale,Dance,Elettronica,Hip hop,House,Italiana,Night Club,Puglia,Reggae,Rock,Selva di Fasano,Tech-House,Techno
ATTACH;FMTTYPE=image/jpeg:https://www.listal.it/sito/wp-content/uploads/2016/07/201607_Summer_Program_play_1200.jpg
ORGANIZER;CN="Jerb%C3%A9ras":MAILTO:Info@Jerberas.IT
GEO:40.829059;17.320134
X-APPLE-STRUCTURED-LOCATION;VALUE=URI;X-ADDRESS=Jerbéras Club Viale Toledo 4 Selva di Fasano BR 72010 Italia;X-APPLE-RADIUS=500;X-TITLE=Viale Toledo\, 4:geo:17.320134,40.829059
END:VEVENT
BEGIN:VEVENT
DTSTART;TZID=Europe/Rome:20160515T170000
DTEND;TZID=Europe/Rome:20160516T010000
DTSTAMP:20260419T230453
CREATED:20160510T083043Z
LAST-MODIFIED:20160511T135100Z
UID:1403-1463331600-1463360400@www.listal.it
SUMMARY:Hippies Party - 2° ExtraDate @Jerbéras (Selva di Fasano)
DESCRIPTION:Domenica 15 Maggio\, dopo la 59ª Coppa Selva di Fasano\, via l’abbigliamento quotidiano o sportivo da gara e largo a fiori\, fiorelloni e a pantaloni a zampa d’elefante\, per celebrare questo nuovo party a tema\, nei giardini del Jerbéras e poi nel Club allestito a puntino per l’occasione! \n\n\nCENNI STORICI\nHippies Party – 2° ExtraDate @Jerbéras (Selva di Fasano) \nLa cultura hippie (o hippy) era in origine un movimento giovanile che ha avuto inizio negli Stati Uniti d’America negli Anni 1960 e si è diffuso in tutto il mondo.\nGli Hippies\, o Figli dei Fiori\, sono gli aderenti al movimento hippy caratterizzati da vestiti decorati con fiori o vivacissime stoffe di colori vivi. Il loro ideale di pace e libertà è sintetizzabile in slogan quali “Mettete dei fiori nei vostri cannoni” & “Fate l’amore\, non la guerra”\, che risuonavano in maniera evidente nel periodo della Guerra del Vietnam. \nLa ricerca sfrenata della totale libertà era il significato insito nel loro stile di vita. \nLa moda e i valori hippie hanno avuto un notevole impatto sulla cultura\, influenzando la musica popolare\, la televisione\, il cinema\, la letteratura e l’arte in generale. Dagli Anni 1960 molti aspetti della cultura Hippy sono diventati di comune dominio. La diversità culturale e religiosa abbracciata dagli hippie ha guadagnato un’ampia accoglienza e la filosofia orientale e l’elemento spirituale hanno raggiunto un vasto pubblico. L’eredità hippie può essere osservata nella cultura contemporanea in una miriade di forme\, dalla salute alimentare\, ai festival di musica\, ai costumi sessuali contemporanei ed ha influenzato anche la rivoluzione del cyberspazio. \n\nLINE UP\nInside\nMichelle Rei [ Concept Groove / Jerbéras / BondageRecords ]\nhttps://www.residentadvisor.net/dj/michellerei\nhttp://fb.me/michelle.rei.37\n \nK.o.Bra (live) [ Concept Groove / Jerbéras / FUSE LAB. ]\nhttps://www.residentadvisor.net/dj/kobra\nhttp://fb.me/MarkoKoBra\n \nOutside\nGiurg [ Jerbéras / Claví / Smash Group – Music Culture ]\n \n\nHAPPY BIRTHDAY: Donato Corbacio \nApertura cancelli: ore 17:00 \nINGRESSO LIBERO\nGradito abbigliamento a tema (facoltativo)\n☎ Info Prenotazioni\no\nClicca QUI (o compila il form in basso)Giando (Telegram) [1° canale preferito]\ne/o +393339446827 (WhatsApp) [2° canale preferito]\n\n← Precedente Grazie per la risposta. ✨\n\n\n					\n						\n							\n							\n						\n						\n						\n						\n						\n							\n								\n									\n										\n										\n									\n									\n										\n										\n									\n								\n							\n						\n						\n							\n								\n									\n									\n										\n									\n									\n									\n								\n							\n						\n					\n				\n\n\n\nNome e Cognome(obbligatorio)\n\n \n			\n				\n					\n						\n						\n						\n					\n				\n				\n			 \n	\n\n\nE-mail(obbligatorio)\n\n \n			\n				\n					\n						\n						\n						\n					\n				\n				\n			 \n	\n\n\nN° telefonico e/o WhatsApp(obbligatorio)\n\n \n			\n				\n					\n						\n						\n						\n					\n				\n				\n			 \n	\n\n\nSito web\n\n \n			\n				\n					\n						\n						\n						\n					\n				\n				\n			 \n	\n\n\nRichiesta(obbligatorio)\n\n \n			\n				\n					\n						\n						\n						\n					\n				\n				\n			\n	\n	\n\n				\n					\n				\n						Invia		\n		\n		\n	 \nΔ \n\n\nPowered by Jerbéras\nSupported by Concept Groove / Lista Lombardi / Techno Clubber / Eventi Techno & After Puglia – Brindisi Bari Taranto + Province and many more… (contact for support)\nScenography: Donato Corbacio\nService: PAtechnologies\nGraphics: Lombardit.IT – Information Technology\nWeb Marketing: L1S.IT by L1T.IT \nLINK EVENTO\n· Facebook: http://on.Jerberas.IT/20160515fb\n· Resident Advisor: http://on.Jerberas.IT/20160515ra \nPROFILI SOCIAL\n· Web: www.Jerberas.IT\n· Resident Advisor: on.Jerberas.IT/JRALink\n· Twitter: Twitter.com/Jerberas\n· Telegram: Telegram.me/Jerberas\n· Instagram: Instagram.com/Jerberas\n· Soundcloud: Soundcloud.com/Jerberas\n· Linkedin: Linkedin.com/company/jerbéras \nPer ricevere le notifiche di tutti gli eventi iscriviti al gruppo Amici del Jerbéras Club!
URL:https://www.listal.it/event/20160515-hippies-party-2-extradate-jerberas-selva-fasano/
LOCATION:Jerbéras Club\, Viale Toledo\, 4\, Selva di Fasano\, BR\, 72010\, Italia
CATEGORIES:Brindisi,Elettronica,Hip hop,House,Puglia,Selva di Fasano,Tech-House,Techno
ATTACH;FMTTYPE=image/jpeg:https://www.listal.it/sito/wp-content/uploads/2016/05/20160515_2_web_1200.jpg
ORGANIZER;CN="Jerb%C3%A9ras":MAILTO:Info@Jerberas.IT
GEO:40.829059;17.320134
X-APPLE-STRUCTURED-LOCATION;VALUE=URI;X-ADDRESS=Jerbéras Club Viale Toledo 4 Selva di Fasano BR 72010 Italia;X-APPLE-RADIUS=500;X-TITLE=Viale Toledo\, 4:geo:17.320134,40.829059
END:VEVENT
END:VCALENDAR