BEGIN:VCALENDAR
VERSION:2.0
PRODID:-//Lombardi Music - ECPv6.15.20//NONSGML v1.0//EN
CALSCALE:GREGORIAN
METHOD:PUBLISH
X-ORIGINAL-URL:https://www.listal.it
X-WR-CALDESC:Eventi per Lombardi Music
REFRESH-INTERVAL;VALUE=DURATION:PT1H
X-Robots-Tag:noindex
X-PUBLISHED-TTL:PT1H
BEGIN:VTIMEZONE
TZID:Europe/Paris
BEGIN:DAYLIGHT
TZOFFSETFROM:+0100
TZOFFSETTO:+0200
TZNAME:CEST
DTSTART:20140330T010000
END:DAYLIGHT
BEGIN:STANDARD
TZOFFSETFROM:+0200
TZOFFSETTO:+0100
TZNAME:CET
DTSTART:20141026T010000
END:STANDARD
BEGIN:DAYLIGHT
TZOFFSETFROM:+0100
TZOFFSETTO:+0200
TZNAME:CEST
DTSTART:20150329T010000
END:DAYLIGHT
BEGIN:STANDARD
TZOFFSETFROM:+0200
TZOFFSETTO:+0100
TZNAME:CET
DTSTART:20151025T010000
END:STANDARD
BEGIN:DAYLIGHT
TZOFFSETFROM:+0100
TZOFFSETTO:+0200
TZNAME:CEST
DTSTART:20160327T010000
END:DAYLIGHT
BEGIN:STANDARD
TZOFFSETFROM:+0200
TZOFFSETTO:+0100
TZNAME:CET
DTSTART:20161030T010000
END:STANDARD
END:VTIMEZONE
BEGIN:VTIMEZONE
TZID:Europe/Rome
BEGIN:DAYLIGHT
TZOFFSETFROM:+0100
TZOFFSETTO:+0200
TZNAME:CEST
DTSTART:20140330T010000
END:DAYLIGHT
BEGIN:STANDARD
TZOFFSETFROM:+0200
TZOFFSETTO:+0100
TZNAME:CET
DTSTART:20141026T010000
END:STANDARD
BEGIN:DAYLIGHT
TZOFFSETFROM:+0100
TZOFFSETTO:+0200
TZNAME:CEST
DTSTART:20150329T010000
END:DAYLIGHT
BEGIN:STANDARD
TZOFFSETFROM:+0200
TZOFFSETTO:+0100
TZNAME:CET
DTSTART:20151025T010000
END:STANDARD
BEGIN:DAYLIGHT
TZOFFSETFROM:+0100
TZOFFSETTO:+0200
TZNAME:CEST
DTSTART:20160327T010000
END:DAYLIGHT
BEGIN:STANDARD
TZOFFSETFROM:+0200
TZOFFSETTO:+0100
TZNAME:CET
DTSTART:20161030T010000
END:STANDARD
END:VTIMEZONE
BEGIN:VEVENT
DTSTART;TZID=Europe/Paris:20151219T230000
DTEND;TZID=Europe/Paris:20151220T060000
DTSTAMP:20260426T052122
CREATED:20151217T131054Z
LAST-MODIFIED:20160109T031459Z
UID:1220-1450566000-1450591200@www.listal.it
SUMMARY:NOZE (live) & FUSE w/ Milton Bradley & Skizzo @ Hyper Disco
DESCRIPTION:NOZE (live) & FUSE w/ Milton Bradley & Skizzo @ Hyper Disco  \n\nA distanza di alcuni mesi dal grande successo del 1° giugno a Monopoli (Bari)\, il nuovo appuntamento con il live dei Nôze si terrà ad Alberobello presso l’Hyper Disco\, dove si esibiranno per un altro grandissimo party a celebrare il nuovo album “COME WITH US”.\nInoltre il duo suonerà dal vivo tutto il meglio del proprio repertorio (compresa Remember love) con cui è entrato nei cuori di tanti clubbers che ne hanno fatto delle vere e proprie star nella nostra regione. \nContemporaneamente continua il progetto di ricerca musicale targato FUSE LAB.\nQuesta volta tocca a Milton Bradley riscaldare le fredde mura del FUSE LAB.! \nNOZE (live) & FUSE w/ Milton Bradley & Skizzo @ Hyper Disco \n  \n“Milton Bradley\, nato e cresciuto a Berlino\, viene influenzato da questa città versatile e in continua trasformazione. La fine degli anni ’80 lo hanno avvicinato all’ acid house e alla techno belga\, preludio di un amore immenso per ogni genere di musica elettronica.\nNon si sa molto circa l’identità personale di Milton Bradley ma il suo lavoro in studio è tutt’altro che sconosciuto. Da consumatore a produttore\, remixer e dj internazionale\, con gli anni ha effettivamente scritto la storia della Techno made in Berlino.\nOltre ad essere uno dei migliori dj al mondo per tecnica\, selezione e dedizione\, Milton Bradley non si pone confini. Da anni porta avanti interessantissimi progetti paralleli\, come il duo K209 con Henning Baer\, o il live The End Of All Existence dove esplora suoni industriali e ambient fino ad arrivare al progetto Alien Rain.\nLa musica che nasce da Alien Rain rappresenta un viaggio temporale. Fonde l’Acid House degli anni 90 con la techno più contemporanea dando vita a produzioni profonde\, incisive e mentali.” \nL’evento si terrà presso l’ Hyper Disco\, storico locale situato in Valle d’Itria.\nHYPER: il locale ideale per un grande evento! \n▬▬▬▬ MAIN ▬▬▬▬ \n• Nôze (live) [Circus Company]\nFB: http://www.facebook.com/nozecircus  \n· Sante Sansone [ATK]\nFB: http://www.facebook.com/sante.sansone\n  \n▬▬▬▬ FUSE LAB ▬▬▬▬ \n• Milton Bradley [Do Not Resist The Beat! / Alien Rain / MDR]\nFB: https://www.facebook.com/Milton-Bradley-101255829922/  \n• Dj Skizzo [SK Recordings]\nFB: http://www.facebook.com/skizzodj\n  \n· Antonio Magno [FUSE LAB.]\nSC: https://soundcloud.com/antonio-magno-2  \n· NIKO [Lion Beat Recordings]\n  \nINGRESSO IN PREVENDITA \nClicca QUI per ☎ Info Prenotazioni (o compila il form in basso)Giando (Telegram) [1° canale preferito]\ne/o +393339446827 (WhatsApp) [2° canale preferito]\n\n← Precedente Grazie per la risposta. ✨\n\n\n					\n						\n							\n							\n						\n						\n						\n						\n						\n							\n								\n									\n										\n										\n									\n									\n										\n										\n									\n								\n							\n						\n						\n							\n								\n									\n									\n										\n									\n									\n									\n								\n							\n						\n					\n				\n\n\n\nNome e Cognome(obbligatorio)\n\n \n			\n				\n					\n						\n						\n						\n					\n				\n				\n			 \n	\n\n\nE-mail(obbligatorio)\n\n \n			\n				\n					\n						\n						\n						\n					\n				\n				\n			 \n	\n\n\nN° telefonico e/o WhatsApp(obbligatorio)\n\n \n			\n				\n					\n						\n						\n						\n					\n				\n				\n			 \n	\n\n\nSito web\n\n \n			\n				\n					\n						\n						\n						\n					\n				\n				\n			 \n	\n\n\nCommento(obbligatorio)\n\n \n			\n				\n					\n						\n						\n						\n					\n				\n				\n			\n	\n	\n\n				\n					\n				\n						Invia		\n		\n		\n	 \nΔ\n \n\nc/o Hyper Disco\nS.P. 113 Monopoli – Alberobello\, km 17\n70011 Alberobello (Bari)\nGPS: http://goo.gl/maps/2kUvtrywZy42 \nLINK EVENTO\nFacebook: http://on.FuseLab.IT/20151219fb\nResident Advisor: http://on.FuseLab.IT/20151219ra\nYouTube: http://on.FuseLab.IT/20151219yt \nPartner Ufficiali:\nAmici della Notte\nFUSE LAB.\nMusica e Parole\nTHE FLAME RECORDINGS\n@ [AllNight]
URL:https://www.listal.it/event/20151219-noze-live-fuse-milton-bradley-skizzo-hyper-disco/
LOCATION:Hyper Disco\, S.P. 113 Monopoli - Alberobello\, km 17\, Alberobello\, BA\, 70011 \, Italia
CATEGORIES:Alberobello,Bari,Elettronica,House,Puglia,Tech-House,Techno
ATTACH;FMTTYPE=image/jpeg:https://www.listal.it/sito/wp-content/uploads/2015/12/20151219_50-50_1200web.jpg
GEO:40.801778;17.249735
X-APPLE-STRUCTURED-LOCATION;VALUE=URI;X-ADDRESS=Hyper Disco S.P. 113 Monopoli - Alberobello km 17 Alberobello BA 70011  Italia;X-APPLE-RADIUS=500;X-TITLE=S.P. 113 Monopoli - Alberobello\, km 17:geo:17.249735,40.801778
END:VEVENT
BEGIN:VEVENT
DTSTART;TZID=Europe/Paris:20151207T234500
DTEND;TZID=Europe/Paris:20151208T060000
DTSTAMP:20260426T052122
CREATED:20151206T152246Z
LAST-MODIFIED:20160109T032220Z
UID:1205-1449531900-1449554400@www.listal.it
SUMMARY:FUSE w/ PSYK [Non Series/Tresor/Mote-Evolver] @ Hyper
DESCRIPTION:FUSE w/ PSYK [Non series/Tresor/Mote-Evolver] @ Hyper \n\nFUSE w/ PSYK [Non series/Tresor/Mote-Evolver] @ Hyper \nIl progetto FUSE LAB. nasce dalla voglia di portare agli occhi del pubblico un Concept di Clubbing con un Livello Musicale di Qualità\, nell’ormai storico scenario dell’Hyper disco di Alberobello.\nL’obiettivo comune è quello di un Party in cui il Pubblico possa sentirsi a suo agio con Musica & Ambiente\, valorizzando Artisti Locali & Internazionali. \nPer chi conosce la Techno in ogni sua forma\, dalla più essenziale minimal ai generi più ruvidi ed incalzanti\, la Spagna è sempre stata una delle mete di riferimento sia per il clubbing\, sia per gli artisti leggendari che la penisola iberica ha saputo sfornare.\nOggi la nazione vive momenti di grande crisi economica ma l’orgoglio del suo popolo rimane intatto e così la sua scena musicale. Le nuove generazioni di artisti locali si stanno facendo sempre più strada grazie anche a una fortissima cultura musicale nata di pari passo alla globalizzazione della musica elettronica avvenuta nel 2000 grazie al digitale. E tra questi non potevamo che invitare… \n• psyk [ Non Series / Tresor.Berlin (OFFICIAL) / Mote-Evolver ]\nManuel Anós\, in arte psyk è un ragazzo di Madrid appassionato da sempre di musica che si è trovato in poco tempo catapultato in una realtà tutta nuova senza lasciarsi traviare dalla fama e mantenendo i piedi ben saldi per terra. Notato dal Supremo Richie Hawtin\, che inserì un suo brano in una compilation targata MINUS nel 2008\, psyk ha nel corso degli anni evoluto il suo modo di fare musica fino a stabilizzarlo in una techno veloce e potente con chiare influenze derivate dalla tradizione musicale del suo paese. Con già all’attivo una vasta proposta produttiva\, il giovane spagnolo è riuscito a farsi apprezzare dai maggiori esponenti della techno mondiale\, ampliando così di molto le sue conoscenze. Per dare sfogo a tutta la sua creatività Manuel ha deciso di fondare (in collaborazione con Raffaele Attanasio) Non Series\, un’etichetta dove potersi esprimere in tutte le sue diverse sfaccettature\, tra cui Maan\, il suo pseudonimo nato per sviluppare un genere musicale più incentrato sulle sonorità house e meno su quelle techno che caratterizzano il marchio di psyk. \nPer chi ha avuto il piacere di sentire un suo set diverse volte e in diverse nazioni\, la sensazione è quella di trovare sempre qualcosa di nuovo. Non c’è mai nulla di scontato in quello che il giovane Manu può trasmettere alla pista\, della quale cerca sempre di aver percezione così da potervi essere connesso in qualunque momento.\nMa questo dovrete venirlo ad ascoltare con le vostre orecchie per comprenderlo appieno… \nFB: http://www.facebook.com/psykmusic\nRA: http://www.residentadvisor.net/dj/psyk\n \nSupported by \n• Innerspaces\nFB: https://www.facebook.com/innerspaces2\nRA: http://www.residentadvisor.net/dj/innerspaces\nSOUNDCLOUD: https://soundcloud.com/innerspacesduo \n• Michele Costante\nFB: http://www.facebook.com/mikostante\nSOUNDCLOUD: https://soundcloud.com/michelecostante\n••••••••••••••••••••••••••••••••••••••••••••••••••••••\nLINK EVENTO:\n· Facebook: https://www.facebook.com/events/110949589274234\n· Resident Advisor: http://www.residentadvisor.net/event.aspx?780830\n••••••••••••••••••••••••••••••••••••••••••••••••••••••\nApertura cancelli: ore 23:45\n*************************************************\nClicca QUI per ☎ Info Prenotazioni (o compila il form in basso)Giando (Telegram) [1° canale preferito]\ne/o +393339446827 (WhatsApp) [2° canale preferito]\n\n← Precedente Grazie per la risposta. ✨\n\n\n					\n						\n							\n							\n						\n						\n						\n						\n						\n							\n								\n									\n										\n										\n									\n									\n										\n										\n									\n								\n							\n						\n						\n							\n								\n									\n									\n										\n									\n									\n									\n								\n							\n						\n					\n				\n\n\n\nNome e Cognome(obbligatorio)\n\n \n			\n				\n					\n						\n						\n						\n					\n				\n				\n			 \n	\n\n\nE-mail(obbligatorio)\n\n \n			\n				\n					\n						\n						\n						\n					\n				\n				\n			 \n	\n\n\nN° telefonico e/o WhatsApp(obbligatorio)\n\n \n			\n				\n					\n						\n						\n						\n					\n				\n				\n			 \n	\n\n\nSito web\n\n \n			\n				\n					\n						\n						\n						\n					\n				\n				\n			 \n	\n\n\nCommento(obbligatorio)\n\n \n			\n				\n					\n						\n						\n						\n					\n				\n				\n			\n	\n	\n\n				\n					\n				\n						Invia		\n		\n		\n	 \nΔ\n \n\n••••••••••••••••••••••••••••••••••••••••••••••••••••••\nc/o Hyper Disco\nS.P. 113 Monopoli – Alberobello\, km 17\n70011 Alberobello (BA)\nGPS: http://goo.gl/maps/2kUvtrywZy42\n____________________________________\nPowered by FUSE LAB.\nhttp://www.FuseLab.IT \nSupported by Techno Clubber / DB Sound – Decibel Sound / Sudest / Lista Lombardi / Eventi Techno & After Puglia – Brindisi Bari Taranto + Province and many more… (contact FUSE LAB. for your support)\nWeb Marketing: Lombardit.IT – Information Technology\nHistory Credits: Soundwall.IT \nPer ricevere le notifiche di tutti gli eventi iscriviti agli aggiornamenti su https://www.facebook.com/FuseLabIT/events
URL:https://www.listal.it/event/20151207-fuse-w-psyk-non-series-tresor-mote-evolver-hyper-disco-alberobello-bari/
LOCATION:Hyper Disco\, S.P. 113 Monopoli - Alberobello\, km 17\, Alberobello\, BA\, 70011 \, Italia
CATEGORIES:Alberobello,Bari,Elettronica,Puglia,Tech-House,Techno
ATTACH;FMTTYPE=image/jpeg:https://www.listal.it/sito/wp-content/uploads/2015/12/20151207_720_web.jpg
ORGANIZER;CN="FUSE LAB.":MAILTO:Giando@FuseLab.IT
GEO:40.801778;17.249735
X-APPLE-STRUCTURED-LOCATION;VALUE=URI;X-ADDRESS=Hyper Disco S.P. 113 Monopoli - Alberobello km 17 Alberobello BA 70011  Italia;X-APPLE-RADIUS=500;X-TITLE=S.P. 113 Monopoli - Alberobello\, km 17:geo:17.249735,40.801778
END:VEVENT
BEGIN:VEVENT
DTSTART;TZID=Europe/Paris:20151107T234500
DTEND;TZID=Europe/Paris:20151108T060000
DTSTAMP:20260426T052122
CREATED:20151104T010404Z
LAST-MODIFIED:20160109T033435Z
UID:1135-1446939900-1446962400@www.listal.it
SUMMARY:FUSE LAB. w/ Musica e Parole @ Hyper Disco
DESCRIPTION:FUSE LAB. w/ Musica e Parole @ Hyper Disco \n\nFUSE LAB. w/ Musica e Parole @ Hyper Disco \nSabato 7.11\nFUSE LAB.\nw/\nMusica e Parole\n@\nHyper Disco \nSiamo lieti di annunciare la nostra 2° Data Ufficiale del progetto FUSE LAB.\nFUSE LAB. è una vera e propria fusione di laboratori\, i quali hanno un unico obbiettivo: quello di creare una forte sinergia tra Musica\, Arte e Moda.\nIl progetto che avrà luogo in un contenitore musicale storico come quello dell’Hyper Disco\, nasce da un gruppo di giovani ragazzi\, con l’obbiettivo di portare agli occhi del pubblico un concetto musicale ben preciso\, puntando su eventi di qualità\, ospitando dj internazionali e locali\, emergenti e non\, di indiscusso valore.\nL’effetto desiderato è quello di un party in cui il pubblico possa sentirsi a suo agio con la musica e l’ambiente.\nLa combinazione di tutti questi elementi fa percepire l’amore di questo team per il proprio lavoro\, e ne è diretta conseguenza la costanza con cui un gran numero di fan sostiene questo progetto. \nFUSE LAB. con la preziosa Partnership di Musica e Parole\, WE LOVE AFTER PARTY & SK Recordings propone: \nLINE UP: \n\nMarco Bruno [ SK Recordings ]\nhttps://soundcloud.com/marcobrunodj\nKhuan [ SK Recordings / Club Culture Music Movement ]\nhttps://soundcloud.com/khuan-1\nInnerspaces [ FUSE LAB. ]\nhttps://soundcloud.com/francesco-toro\nhttps://soundcloud.com/antonio-mas\nAntonio Magno [ FUSE LAB. ]\nhttps://soundcloud.com/antonio-magno-2 \n\nBeatz To Play [ SK Recordings ]\nhttps://soundcloud.com/beatztoplay\n\n•••••••••••••••••••••••••••••••••••••••••••\nApertura cancelli: ore 23:45\n************************************\nINGRESSO AGEVOLATO CON BRACCIALETTO\no in Lista\nClicca QUI per ☎ Info Prenotazioni o compila il modulo in bassoGiando (Telegram) [canale preferito]\ne/o +393339446827 (WhatsApp) [2° canale preferito]\n\n← Precedente Grazie per la risposta. ✨\n\n\n					\n						\n							\n							\n						\n						\n						\n						\n						\n							\n								\n									\n										\n										\n									\n									\n										\n										\n									\n								\n							\n						\n						\n							\n								\n									\n									\n										\n									\n									\n									\n								\n							\n						\n					\n				\n\n\n\nNome(obbligatorio)\n\n \n			\n				\n					\n						\n						\n						\n					\n				\n				\n			 \n	\n\n\nE-mail(obbligatorio)\n\n \n			\n				\n					\n						\n						\n						\n					\n				\n				\n			 \n	\n\n\nWhatsApp\n\n \n			\n				\n					\n						\n						\n						\n					\n				\n				\n			 \n	\n\n\nSito web\n\n \n			\n				\n					\n						\n						\n						\n					\n				\n				\n			 \n	\n\n\nRichiesta(obbligatorio)\n\n \n			\n				\n					\n						\n						\n						\n					\n				\n				\n			\n	\n	\n\n				\n					\n				\n						Invia		\n		\n		\n	 \nΔ\n \n\n____________________________________\nPowered by FUSE LAB. & Musica e Parole \nPartnership: WE LOVE AFTER PARTY & SK Recordings \nSupported by Hyper Disco / Club Culture Music Movement / Techno Clubber / Lista Lombardi / Eventi Techno & After Puglia – Brindisi Bari Taranto + Province and many many more…\nService by PAtechnologies\nWeb Marketing by Lombardit.IT – Information Technology \nLINK EVENTO:\n· Facebook: https://www.facebook.com/events/443903219154024\n· Resident Advisor: http://www.residentadvisor.net/event.aspx?772105 \nSOCIAL LINK:\n· Web: http://www.FuseLab.IT\n· Facebook: https://www.facebook.com/FuseLabIT\n· Twitter: https://twitter.com/FuseLabIT\n· Google: https://plus.google.com/115580504038228370163\n· YouTube: https://www.youtube.com/channel/UC3UeYYY3ZZKvvluJnnRDFxA\n· Resident Advisor: http://www.residentadvisor.net/promoter.aspx?id=56808 \nPer ricevere le notifiche di tutti gli eventi iscriviti agli aggiornamenti su facebook.com/FuseLabIT/events e/o al canale Telegram.me/FuseLab. \n#Sabato #7Novembre #Fuse #Hyper #Disco #MusicaEParole #WeLove #SKRecordings #Khuan #Innerspaces #AntonioMas #FrancescoToro #AntonioMagno #BeatzToPlay #DJ #Music #Techno #Puglia #Eventi #Night #Alberobello #Bari #LL
URL:https://www.listal.it/event/20151107-fuse-lab-w-musica-e-parole-hyper-disco/
LOCATION:Hyper Disco\, S.P. 113 Monopoli - Alberobello\, km 17\, Alberobello\, BA\, 70011 \, Italia
CATEGORIES:Alberobello,Bari,Elettronica,Puglia,Tech-House,Techno
ATTACH;FMTTYPE=image/jpeg:https://www.listal.it/sito/wp-content/uploads/2015/11/20151107_1200.jpg
ORGANIZER;CN="FUSE LAB.":MAILTO:Giando@FuseLab.IT
GEO:40.801778;17.249735
X-APPLE-STRUCTURED-LOCATION;VALUE=URI;X-ADDRESS=Hyper Disco S.P. 113 Monopoli - Alberobello km 17 Alberobello BA 70011  Italia;X-APPLE-RADIUS=500;X-TITLE=S.P. 113 Monopoli - Alberobello\, km 17:geo:17.249735,40.801778
END:VEVENT
BEGIN:VEVENT
DTSTART;TZID=Europe/Rome:20151017T234500
DTEND;TZID=Europe/Rome:20151018T063000
DTSTAMP:20260426T052122
CREATED:20151016T215048Z
LAST-MODIFIED:20151017T202137Z
UID:1044-1445125500-1445149800@www.listal.it
SUMMARY:FUSE LAB. Opening Winter Season with ENDLEC [Mord Records] @ Hyper Disco
DESCRIPTION:FUSE LAB. Opening Winter Season with ENDLEC [Mord Records] @ Hyper Disco \n\nIl progetto “Fuse” che avrà luogo in un contenitore musicale storico come quello dell’Hyper\, nasce da un gruppo di giovani ragazzi con l’obbiettivo di portare agli occhi del pubblico un concetto musicale ben preciso\, puntando su eventi di qualità\, ospitando dj internazionali e locali\, emergenti e non\, di indiscusso valore.\nL’effetto desiderato è quello di un party in cui il pubblico possa sentirsi a suo agio con la musica e l’ambiente.\nLa combinazione di tutti questi elementi fa percepire l’amore di questo team per il proprio lavoro\, ne è diretta conseguenza la costanza con cui un gran numero di fan sostiene questo progetto. \nFUSE OPENING PARTY w: \nEndlec \n”Endlec is from Greece\, born and lived from his early years in a city called Thessaloniki. Already been releasing his music since 2014 at labels such as Authentic Pew from Germany and hungarian Panel Trax records\, it was with his first ever vinyl release from Rotterdam based Mord Records that got the attention of the international techno scene. With influences from the ‘90s european techno\, the sound of the Detroit’s pioneers such as Jeff Mills\, Robert Hood and with a significant dose from the modern electronic music scene\, Endlec delivered a record that didn’t hold anything back\, characterised by a sound that was raw\, furious\, full of unceasing energy and with no compromise at all. That’s the elements that defines his style\, from the productions to his dj sets and for the man himself is what defines techno music. The genre that he choose to serve faithfully when\, in his very young days\, heard for the first time the futuristic\, musical manifestos that Underground Resistance were transmitting from inside the heart of Detroit and deeply inspired by that\, he started listening\, collecting and mixing records. Since then techno is his master\, his is nothing but a servant\, a man devoted to the rhythm.\nNowadays he is in a constant search of his true inner voice\, either that comes from making music\, listening and playing something that inspires him or by being occupied with his love of images through photography and cinema. He has chosen a path towards perfection of his craft no matter what he faces. What constantly motivates him is his respect for the music independently from genres\, something that got to him thanks to his father\, the experience of music listening and the desire to understand the fundamentals.\nFinding himself constantly experimenting with analogue sequencers\, synthesisers and sound design\, his purpose is to pass his love for the music to other people and most certainly\, he will do it without any compromises.” \nhttp://soundcloud.com/endlec\nhttp://www.residentadvisor.net/dj/endlec-gr\nhttp://www.facebook.com/endlecmusic \nSupported by : \nSATO DJ [Overdraw/FUSE LAB.]\nJAKO [Transition Lab.]\nM.I.D.I. [Sunshine/Nox]\nFB: http://www.facebook.com/events/1503697269943815/\nRA: http://www.residentadvisor.net/event.aspx?765798 \nBRACCIALI SALTAFILA LIMITATISSIMI E DISPONIBILI ENTRO VENERDI’ \n☎ Infoline: Telegram.me/Giando\n+393339446827 (WhatsApp) \nPowered by FUSE LAB. \nPartnership :\nOverdraw\nSUNshine \nPromoted by Lombardit.IT – Information Technology
URL:https://www.listal.it/event/fuse-lab-opening-winter-season-with-endlec-mord-records-hyper-disco/2015-10-17/
LOCATION:Hyper Disco\, S.P. 113 Monopoli - Alberobello\, km 17\, Alberobello\, BA\, 70011 \, Italia
CATEGORIES:Alberobello,Bari,Elettronica,Puglia,Techno
ATTACH;FMTTYPE=image/jpeg:https://www.listal.it/sito/wp-content/uploads/2015/10/20151017_web.jpg
ORGANIZER;CN="FUSE LAB.":MAILTO:Giando@FuseLab.IT
GEO:40.801778;17.249735
X-APPLE-STRUCTURED-LOCATION;VALUE=URI;X-ADDRESS=Hyper Disco S.P. 113 Monopoli - Alberobello km 17 Alberobello BA 70011  Italia;X-APPLE-RADIUS=500;X-TITLE=S.P. 113 Monopoli - Alberobello\, km 17:geo:17.249735,40.801778
END:VEVENT
END:VCALENDAR