BEGIN:VCALENDAR
VERSION:2.0
PRODID:-//Lombardi Music - ECPv6.15.20//NONSGML v1.0//EN
CALSCALE:GREGORIAN
METHOD:PUBLISH
X-ORIGINAL-URL:https://www.listal.it
X-WR-CALDESC:Eventi per Lombardi Music
REFRESH-INTERVAL;VALUE=DURATION:PT1H
X-Robots-Tag:noindex
X-PUBLISHED-TTL:PT1H
BEGIN:VTIMEZONE
TZID:Europe/Rome
BEGIN:DAYLIGHT
TZOFFSETFROM:+0100
TZOFFSETTO:+0200
TZNAME:CEST
DTSTART:20140330T010000
END:DAYLIGHT
BEGIN:STANDARD
TZOFFSETFROM:+0200
TZOFFSETTO:+0100
TZNAME:CET
DTSTART:20141026T010000
END:STANDARD
BEGIN:DAYLIGHT
TZOFFSETFROM:+0100
TZOFFSETTO:+0200
TZNAME:CEST
DTSTART:20150329T010000
END:DAYLIGHT
BEGIN:STANDARD
TZOFFSETFROM:+0200
TZOFFSETTO:+0100
TZNAME:CET
DTSTART:20151025T010000
END:STANDARD
BEGIN:DAYLIGHT
TZOFFSETFROM:+0100
TZOFFSETTO:+0200
TZNAME:CEST
DTSTART:20160327T010000
END:DAYLIGHT
BEGIN:STANDARD
TZOFFSETFROM:+0200
TZOFFSETTO:+0100
TZNAME:CET
DTSTART:20161030T010000
END:STANDARD
END:VTIMEZONE
BEGIN:VEVENT
DTSTART;TZID=Europe/Rome:20151003T220000
DTEND;TZID=Europe/Rome:20151004T040000
DTSTAMP:20260420T141117
CREATED:20151001T212710Z
LAST-MODIFIED:20151001T221635Z
UID:983-1443909600-1443931200@www.listal.it
SUMMARY:03-10 Ciccio Riccio presenta: Remember Walkiria @ Park Hotel San Michele (Martina Franca - Taranto)
DESCRIPTION:Non c’è 2 senza 3! 😉\nDopo il successone della precedente 2° edizione dell’ 11 Ottobre 2014 tenutasi @ Masseria Marangiulo – Cisternino (Brindisi) … \n \n\nCiccio Riccio presenta: Remember Walkiria @ Park Hotel San Michele (Martina Franca – Taranto) \nLe più grandi emozioni della tua adolescenza…\nLa Domenica pomeriggio al Walkiria!\nVuoi riviverle?\nE allora ritroviamoci tutti per una 3° volta… \nSABATO 3 OTTOBRE 2015\nPark Hotel San Michele (Martina Franca – Taranto) \nCiccio Riccio & Sandro Toffi presentano: \nREMEMBER WALKIRIA 3! \nQuelli della domenica pomeriggio\ncon qualche anno in più\,\nqualche nostalgia in più\nma ancora con tanta voglia di divertirsi!!! \nLINE UP – DJ‘S \n\nSandro Toffi\n[PRAJA]\nM.M. (aka Mino Molfetta)\n[Ciccio Riccio]\nVanny DJ\nPurlpe P\n[Contromano Project]\n\ncon la dance chart degli anni ’90 di CICCIO RICCIO! \n\nBIGLIETTI SOLO IN PREVENDITA:\n· €  5\,00 – Donna\n· € 10\,00 – Uomo \nInfo Prenotazioni\nClicca QUI per ☎ Info PrenotazioniGiando (Telegram) [1° canale preferito]\ne/o +393339446827 (WhatsApp) [2° canale preferito]\nLombardi Music – (posta privata Facebook)\nInfo@ListaL.IT – (email) \n******************************************\nPunto vendita ufficiale/Predisco: Checcos’è?\n****************************************** \n\nMartina Franca (Taranto)\nPark Hotel San Michele\nViale Carella\, 9\nore 22:00\nIngresso solo su invito!
URL:https://www.listal.it/event/03-10-ciccio-riccio-presenta-remember-walkiria-park-hotel-san-michele-martina-franca-taranto/2015-10-03/
LOCATION:Park Hotel San Michele\, Viale Carella\, 9\, Martina Franca\, Taranto\, 74015\, Italia
CATEGORIES:Anni '90,Dance,Martina Franca,Puglia,Taranto
ATTACH;FMTTYPE=image/jpeg:https://www.listal.it/sito/wp-content/uploads/2015/10/20151003.jpg
GEO:40.701085;17.341273
X-APPLE-STRUCTURED-LOCATION;VALUE=URI;X-ADDRESS=Park Hotel San Michele Viale Carella 9 Martina Franca Taranto 74015 Italia;X-APPLE-RADIUS=500;X-TITLE=Viale Carella\, 9:geo:17.341273,40.701085
END:VEVENT
BEGIN:VEVENT
DTSTART;TZID=Europe/Rome:20150927T150000
DTEND;TZID=Europe/Rome:20150928T030000
DTSTAMP:20260420T141117
CREATED:20150925T113030Z
LAST-MODIFIED:20151101T071507Z
UID:947-1443366000-1443409200@www.listal.it
SUMMARY:27-09 We Love After Party (Giando BDay) @ Martina Franca (Taranto)
DESCRIPTION:Domenica 27-09 We Love After Party (Giando BDay) @ Martina Franca (Taranto) \nLa musica è pura energia che entra prepotentemente in contatto con la nostra anima armonizzando le dissonanze che la vita ci fa patire. (Carmen Cacciapaglia) \nIl WE LOVE AFTER PARTY è un Evento che nasce della fusione tra Amore\, Musica ed Armonia ed è ormai da anni occasione di ritrovo dei dancers Pugliesi e non. \nDomenica 27 settembre\, presso il WE LOVE AFTER PARTY\, festeggerò il mio compleanno in collaborazione con i ragazzi del FUSE LAB. che ripropongono le loro consuete 12 ore di musica\, in una splendida location immersa nel verde\, a bordo piscina.\nN.B.: In caso di avverse condizioni meteo\, l’evento si terrà ugualmente\, disponendo di location al coperto! 😉 \n\nLINE UP\n\nWARM UP\n· Mediahora (Cristian Gutiérrez + Angelo Elia) \nGUEST DJ\n· Lio Mass\n· Francesco Toro b2b Antonio Mas\n· Gianfranco Troccoli\n· Marco Bruno\n· Nebel \n\nPowered by WE LOVE AFTER PARTY & FUSE LAB.\nSupported by Lista Lombardi / Techno Clubber / Eventi Techno & After Puglia – Brindisi Bari Taranto + Province / and many more…\nPRomoted by Lombardit.IT – Information Technology\nWebsite: www.ListaL.IT – www.Jerberas.IT \n\nApertura cancelli: ore 15:00 \nINGRESSO RIDOTTO IN LISTA LOMBARDI\n************************************************** \nClicca QUI per Info Prenotazioni Agevolazioni Posizioni WhatsAppGiando (Telegram)\ne/o +393339446827 (WhatsApp)\nP.S.: Iscriviti al gruppo “Amici del Jerbéras Club”\nA domenica! :*
URL:https://www.listal.it/event/27-09-we-love-after-party-giando-bday-martina-franca-taranto/2015-09-27/
LOCATION:Martina Franca (Taranto)\, Martina Franca\, Taranto\, 74015\, Italia
CATEGORIES:Elettronica,House,Martina Franca,Puglia,Taranto,Tech-House,Techno
ATTACH;FMTTYPE=image/jpeg:https://www.listal.it/sito/wp-content/uploads/2015/09/20150927.jpg
GEO:40.7;17.333333
END:VEVENT
END:VCALENDAR