BEGIN:VCALENDAR
VERSION:2.0
PRODID:-//Lombardi Music - ECPv6.15.20//NONSGML v1.0//EN
CALSCALE:GREGORIAN
METHOD:PUBLISH
X-WR-CALNAME:Lombardi Music
X-ORIGINAL-URL:https://www.listal.it
X-WR-CALDESC:Eventi per Lombardi Music
REFRESH-INTERVAL;VALUE=DURATION:PT1H
X-Robots-Tag:noindex
X-PUBLISHED-TTL:PT1H
BEGIN:VTIMEZONE
TZID:Europe/Rome
BEGIN:DAYLIGHT
TZOFFSETFROM:+0100
TZOFFSETTO:+0200
TZNAME:CEST
DTSTART:20150329T010000
END:DAYLIGHT
BEGIN:STANDARD
TZOFFSETFROM:+0200
TZOFFSETTO:+0100
TZNAME:CET
DTSTART:20151025T010000
END:STANDARD
BEGIN:DAYLIGHT
TZOFFSETFROM:+0100
TZOFFSETTO:+0200
TZNAME:CEST
DTSTART:20160327T010000
END:DAYLIGHT
BEGIN:STANDARD
TZOFFSETFROM:+0200
TZOFFSETTO:+0100
TZNAME:CET
DTSTART:20161030T010000
END:STANDARD
BEGIN:DAYLIGHT
TZOFFSETFROM:+0100
TZOFFSETTO:+0200
TZNAME:CEST
DTSTART:20170326T010000
END:DAYLIGHT
BEGIN:STANDARD
TZOFFSETFROM:+0200
TZOFFSETTO:+0100
TZNAME:CET
DTSTART:20171029T010000
END:STANDARD
END:VTIMEZONE
BEGIN:VEVENT
DTSTART;TZID=Europe/Rome:20160425T160000
DTEND;TZID=Europe/Rome:20160426T000000
DTSTAMP:20260423T081051
CREATED:20160428T005838Z
LAST-MODIFIED:20160428T005838Z
UID:1391-1461600000-1461628800@www.listal.it
SUMMARY:25.04 Liberation Day Concept Groove FREE ENTRY @Jerbéras
DESCRIPTION:25.04 Liberation Day Concept Groove FREE ENTRY @Jerbéras \nA vostra grande richiesta\, ed in meno di 24 ore di tempo\, SPECIALE EVENTO per la FESTA DELLA LIBERAZIONE\, del progetto Concept Groove nella location rivisitata per splendere ancor di più per eccellenza\, immersa tra gli alberi della Selva Di Fasano\, Puglia\, con accorgimenti tecnici audio e visivi che caratterizzano il nostro modo di fare PARTY.\nIl tutto curato da un service TOP di gamma\, il cui lavoro è amplificato dalle caratteristiche strutturali del nostro amato Club. \n\nPer questo nuovo party avremo il piacere di ospitare nuovamente 1 amico\, trasferitosi a Londra. \nSiamo lieti di presentare: \nSPECIAL GUEST\nSATO DJ [Sound Department]\nhttp://fb.me/satodjproducer\n \nREGULAR RESIDENT\nK.o.Bra (live) [Concept Groove/Jerbéras/FUSE LAB.]\nhttp://fb.me/MarkoKoBra\nhttp://www.residentadvisor.net/dj/kobra\n \nGratris [Concept Groove/Jerbéras]\n \nDavide D’ignazio [Concept Groove/Jerbéras/FUSE LAB./RED.code]\nhttps://www.facebook.com/Davide-Dignazio-1604421606484937\n \n\n  \nINGRESSO LIBERO \n☎ Info Prenotazioni\no\nClicca QUI (o compila il form in basso)Giando (Telegram) [1° canale preferito]\ne/o +393339446827 (WhatsApp) [2° canale preferito]\n\n← Precedente Grazie per la risposta. ✨\n\n\n					\n						\n							\n							\n						\n						\n						\n						\n						\n							\n								\n									\n										\n										\n									\n									\n										\n										\n									\n								\n							\n						\n						\n							\n								\n									\n									\n										\n									\n									\n									\n								\n							\n						\n					\n				\n\n\n\nNome e Cognome(obbligatorio)\n\n \n			\n				\n					\n						\n						\n						\n					\n				\n				\n			 \n	\n\n\nE-mail(obbligatorio)\n\n \n			\n				\n					\n						\n						\n						\n					\n				\n				\n			 \n	\n\n\nN° telefonico e/o WhatsApp(obbligatorio)\n\n \n			\n				\n					\n						\n						\n						\n					\n				\n				\n			 \n	\n\n\nSito web\n\n \n			\n				\n					\n						\n						\n						\n					\n				\n				\n			 \n	\n\n\nRichiesta(obbligatorio)\n\n \n			\n				\n					\n						\n						\n						\n					\n				\n				\n			\n	\n	\n\n				\n					\n				\n						Invia		\n		\n		\n	 \nΔ \n\nPowered by Concept Groove\nSupported by Jerbéras / Lista Lombardi / Techno Clubber / Eventi Techno & After Puglia – Brindisi Bari Taranto + Province and many more… (contact for support)\nService: PAtechnologies\nGraphics: Allegra Brigata\nWeb Marketing: L1S.IT by L1T.IT \nLINK EVENTO\n· Facebook: http://on.Jerberas.IT/20160425fb\n· Resident Advisor: http://on.Jerberas.IT/20160425ra \nWebsite: http://www.Jerberas.IT \nPer ricevere le notifiche di tutti gli eventi iscriviti al gruppo Amici del Jerbéras Club e/o al canale Telegram.me/Jerberas.
URL:https://www.listal.it/event/20160425-liberation-day-concept-groove-free-entry-jerberas/
LOCATION:Jerbéras Club\, Viale Toledo\, 4\, Selva di Fasano\, BR\, 72010\, Italia
CATEGORIES:Brindisi,Elettronica,House,Puglia,Selva di Fasano,Tech-House,Techno
ATTACH;FMTTYPE=image/jpeg:https://www.listal.it/sito/wp-content/uploads/2016/04/20160425_1200_play.jpg
GEO:40.829059;17.320134
X-APPLE-STRUCTURED-LOCATION;VALUE=URI;X-ADDRESS=Jerbéras Club Viale Toledo 4 Selva di Fasano BR 72010 Italia;X-APPLE-RADIUS=500;X-TITLE=Viale Toledo\, 4:geo:17.320134,40.829059
END:VEVENT
END:VCALENDAR