BEGIN:VCALENDAR
VERSION:2.0
PRODID:-//Lombardi Music - ECPv6.15.20//NONSGML v1.0//EN
CALSCALE:GREGORIAN
METHOD:PUBLISH
X-WR-CALNAME:Lombardi Music
X-ORIGINAL-URL:https://www.listal.it
X-WR-CALDESC:Eventi per Lombardi Music
REFRESH-INTERVAL;VALUE=DURATION:PT1H
X-Robots-Tag:noindex
X-PUBLISHED-TTL:PT1H
BEGIN:VTIMEZONE
TZID:Europe/Rome
BEGIN:DAYLIGHT
TZOFFSETFROM:+0100
TZOFFSETTO:+0200
TZNAME:CEST
DTSTART:20140330T010000
END:DAYLIGHT
BEGIN:STANDARD
TZOFFSETFROM:+0200
TZOFFSETTO:+0100
TZNAME:CET
DTSTART:20141026T010000
END:STANDARD
BEGIN:DAYLIGHT
TZOFFSETFROM:+0100
TZOFFSETTO:+0200
TZNAME:CEST
DTSTART:20150329T010000
END:DAYLIGHT
BEGIN:STANDARD
TZOFFSETFROM:+0200
TZOFFSETTO:+0100
TZNAME:CET
DTSTART:20151025T010000
END:STANDARD
BEGIN:DAYLIGHT
TZOFFSETFROM:+0100
TZOFFSETTO:+0200
TZNAME:CEST
DTSTART:20160327T010000
END:DAYLIGHT
BEGIN:STANDARD
TZOFFSETFROM:+0200
TZOFFSETTO:+0100
TZNAME:CET
DTSTART:20161030T010000
END:STANDARD
BEGIN:DAYLIGHT
TZOFFSETFROM:+0100
TZOFFSETTO:+0200
TZNAME:CEST
DTSTART:20170326T010000
END:DAYLIGHT
BEGIN:STANDARD
TZOFFSETFROM:+0200
TZOFFSETTO:+0100
TZNAME:CET
DTSTART:20171029T010000
END:STANDARD
END:VTIMEZONE
BEGIN:VEVENT
DTSTART;TZID=Europe/Rome:20151231T213000
DTEND;TZID=Europe/Rome:20160101T060000
DTSTAMP:20260423T023044
CREATED:20151231T220451Z
LAST-MODIFIED:20151231T220451Z
UID:1247-1451597400-1451628000@www.listal.it
SUMMARY:31.12 #Cenone #ConceptGroove & #NYE 2016 w/ S.Silvestro & Resident @Jerberas Club
DESCRIPTION:Giovedì 31.12\n“La Notte di San Silvestro”\nil Jerbéras Club\nè lieto di presentare\nil CENONE\nper gli\nAmici del Jerbéras Club\n+\nNYE 2016\nConcept Groove \nLa domanda più frequente del momento:\nDove vai a Capodanno?\nSemplice:\nAl Jerbéras! \nIn occasione di San Silvestro\, siamo lieti di proporvi\, il tipico cenone nella location rivisitata per splendere ancor di più per eccellenza.\nImmersa tra gli alberi della Selva Di Fasano\, Puglia\, Italy con accorgimenti culinari e gustativi\, che caratterizzano la nostra cucina mediterranea.\nIl tutto curato da un servizio di catering TOP di gamma: La Grande Quercia.\nBevande incluse durante tutto il cenone.\nMaggiori info: T.B.A. \n••••••••••••••••••••••••••••••••••••••••••••••••••\nINIZIO CENONE: ore 22:00\n**************************************************\nSOLO in PRENOTAZIONE \n☎ INFO / PRENOTAZIONI / TAVOLI\nClicca QUI per ☎ Info Prenotazioni (o compila il form in basso)Giando (Telegram) [1° canale preferito]\ne/o +393339446827 (WhatsApp) [2° canale preferito]\n\n← Precedente Grazie per la risposta. ✨\n\n\n					\n						\n							\n							\n						\n						\n						\n						\n						\n							\n								\n									\n										\n										\n									\n									\n										\n										\n									\n								\n							\n						\n						\n							\n								\n									\n									\n										\n									\n									\n									\n								\n							\n						\n					\n				\n\n\n\nNome e Cognome(obbligatorio)\n\n \n			\n				\n					\n						\n						\n						\n					\n				\n				\n			 \n	\n\n\nE-mail(obbligatorio)\n\n \n			\n				\n					\n						\n						\n						\n					\n				\n				\n			 \n	\n\n\nN° telefonico e/o WhatsApp(obbligatorio)\n\n \n			\n				\n					\n						\n						\n						\n					\n				\n				\n			 \n	\n\n\nSito web\n\n \n			\n				\n					\n						\n						\n						\n					\n				\n				\n			 \n	\n\n\nRichiesta(obbligatorio)\n\n \n			\n				\n					\n						\n						\n						\n					\n				\n				\n			\n	\n	\n\n				\n					\n				\n						Invia		\n		\n		\n	 \nΔ \n\n••••••••••••••••••••••••••••••••••••••••••••••••••\nAPERTURA AL PUBBLICO: ore 2:00\n**************************************************\nINGRESSO in LISTA \nGUEST \n• Many\, many new entry… @ surprise! \nREGULAR RESIDENT \n• K.o.Bra (live) [Concept Groove / Jerbéras / FUSE LAB.]\nhttp://www.residentadvisor.net/dj/kobra\nhttp://fb.me/MarkoKoBra\n \n• Francesco Argentieri [Jerbéras / Sanbor Discobar]\nhttps://www.residentadvisor.net/dj/francescoargentieri\nhttp://fb.me/FrancescoArgentieriMusic\n \n• Gratris [Concept Groove / Jerbéras]\nhttp://fb.me/Gratris-1511617635831640\n \n••••••••••••••••••••••••••••••••••••••••••••••••••••••••\nJerbéras Club\nViale Toledo N.4 – Selva Di Fasano\, Puglia\, Italy \nLINK \n· Web > http://www.Jerberas.IT/\n· Facebook > http://on.Jerberas.IT/20151231fb\n· Resident Advisor > T.B.A.\n____________________________________\nPowered by Concept Groove\nCatering by La Grande Quercia\nPartner: Cafeteria\nSupported by Jerbéras / Lista Lombardi / Techno Clubber / Eventi Techno & After Puglia – Brindisi Bari Taranto + Province and many more… (contact for support)\nService by PAtechnologies\nWeb Marketing by Lombardit.IT – Information Technology \nPer ricevere le notifiche di tutti gli eventi iscriviti al gruppo “Amici del Jerbéras Club” e/o al canale Telegram.me/Jerberas.
URL:https://www.listal.it/event/20151231-cenone-conceptgroove-nye-2016-w-s-silvestro-resident-jerberas-club-selva-di-fasano/
LOCATION:Jerbéras Club\, Viale Toledo\, 4\, Selva di Fasano\, BR\, 72010\, Italia
CATEGORIES:Brindisi,Elettronica,House,Night Club,Puglia,Selva di Fasano,Tech-House,Techno
ATTACH;FMTTYPE=image/jpeg:https://www.listal.it/sito/wp-content/uploads/2015/12/20151231_1200_ads.jpg
GEO:40.829059;17.320134
X-APPLE-STRUCTURED-LOCATION;VALUE=URI;X-ADDRESS=Jerbéras Club Viale Toledo 4 Selva di Fasano BR 72010 Italia;X-APPLE-RADIUS=500;X-TITLE=Viale Toledo\, 4:geo:17.320134,40.829059
END:VEVENT
END:VCALENDAR