BEGIN:VCALENDAR
VERSION:2.0
PRODID:-//Lombardi Music - ECPv6.15.20//NONSGML v1.0//EN
CALSCALE:GREGORIAN
METHOD:PUBLISH
X-WR-CALNAME:Lombardi Music
X-ORIGINAL-URL:https://www.listal.it
X-WR-CALDESC:Eventi per Lombardi Music
REFRESH-INTERVAL;VALUE=DURATION:PT1H
X-Robots-Tag:noindex
X-PUBLISHED-TTL:PT1H
BEGIN:VTIMEZONE
TZID:Europe/Paris
BEGIN:DAYLIGHT
TZOFFSETFROM:+0100
TZOFFSETTO:+0200
TZNAME:CEST
DTSTART:20140330T010000
END:DAYLIGHT
BEGIN:STANDARD
TZOFFSETFROM:+0200
TZOFFSETTO:+0100
TZNAME:CET
DTSTART:20141026T010000
END:STANDARD
BEGIN:DAYLIGHT
TZOFFSETFROM:+0100
TZOFFSETTO:+0200
TZNAME:CEST
DTSTART:20150329T010000
END:DAYLIGHT
BEGIN:STANDARD
TZOFFSETFROM:+0200
TZOFFSETTO:+0100
TZNAME:CET
DTSTART:20151025T010000
END:STANDARD
BEGIN:DAYLIGHT
TZOFFSETFROM:+0100
TZOFFSETTO:+0200
TZNAME:CEST
DTSTART:20160327T010000
END:DAYLIGHT
BEGIN:STANDARD
TZOFFSETFROM:+0200
TZOFFSETTO:+0100
TZNAME:CET
DTSTART:20161030T010000
END:STANDARD
END:VTIMEZONE
BEGIN:VEVENT
DTSTART;TZID=Europe/Paris:20151227T220000
DTEND;TZID=Europe/Paris:20151228T060000
DTSTAMP:20260423T022505
CREATED:20151225T233637Z
LAST-MODIFIED:20151227T002926Z
UID:1238-1451253600-1451282400@www.listal.it
SUMMARY:27.12 #RICOVER in UnoSpuntoPerLaRivoluzione (FREE ENTRY) + DJ Set @Jerberas Club
DESCRIPTION:27.12 #RICOVER in UnoSpuntoPerLaRivoluzione (FREE ENTRY) + DJ Set @Jerberas Club \n\n\nLi abbiamo salutati il 4 agosto col piacevole clima Silvano\,\nin occasione dell’indimenticabile gran bel compleanno di Tano\,\ne dopo 4 mesi torniamo\,\na riproporvi Rino Gaetano\ncol gruppo più acclamato ed apprezzato a Fasano\,\ndai Fasanesi e da tutto il circondario! \nSiamo lieti di annunciare DOMENICA 27 Dicembre\, nel suggestivo scenario del Jerbéras sulla Selva Di Fasano\, Puglia\, Italy \n*** I Ricover IN CONCERTO *** \n27.12 #RICOVER in UnoSpuntoPerLaRivoluzione (FREE ENTRY) + DJ Set @Jerberas Club \nI Ricover sono il gruppo Fasanese di Rino Gaetano (official) il cui spirito è quello di trasmettere il messaggio delle sue canzoni\, spesso mascherato da ironia e divertimento.\nLa band nasce dalla passione che lega i 5 componenti per il cantautore calabrese. \nMembri:\n• Demy: basso elettrico\n• Stefano Bux: chitarra acustica\, kazoo e cori\n• Vito Cofano: batteria\n• Raffaele Trisciuzzi: voce\, pianoforte elettrico e kazoo \nA seguire\, a gradire\, After Show & DJ Set fino a quando vi pare e piace con la selezione musicale by: \n• Daniele Bees Angelini\n• & tanti altri che annunceremo\n• nel corso di questa settimana\n• … \nVi aspettiamo tutti al Jerbéras Club per riviverci le emozioni che ogni volta questa serata ci da! \n••••••••••••••••••••••••••••••••••••••••••••••••••••••••\nINGRESSO LIBERO\nSENZA OBBLIGO DI CONSUMAZIONE\n••••••••••••••••••••••••••••••••••••••••••••••••••••••••\nInfo/Prenotazioni/Tavoli \nJerbéras Club\nViale Toledo\, 4 – Selva Di Fasano\, Puglia\, Italy\nWebsite: http://www.Jerberas.IT \nPowered by Jerbéras\nService by PAtechnologies\nWeb Marketing by Lombardit.IT – Information Technology \nLINK EVENTO\n· Facebook: http://on.Jerberas.IT/20151227fb\n· Resident Advisor: T.B.A. \nPer ricevere le notifiche di tutti gli eventi iscriviti al gruppo “Amici del Jerbéras Club” e/o al canale Telegram.me/Jerberas. \n#Domenica #27Dicembre #RICOVER #Concerto #Rino #Gaetano #Jerbéras #Club #DJ #Live #Jerberas #Musica #Puglia #Eventi #Night #Selva #Fasano #FB #RA #LL
URL:https://www.listal.it/event/20151227-ricover-in-unospuntoperlarivoluzione-free-entry-dj-set-jerberas-club-selva-di-fasano/
LOCATION:Jerbéras Club\, Viale Toledo\, 4\, Selva di Fasano\, BR\, 72010\, Italia
CATEGORIES:Brindisi,Italiana,Puglia,Selva di Fasano
ATTACH;FMTTYPE=image/jpeg:https://www.listal.it/sito/wp-content/uploads/2015/12/facebook_event_1181273265236124.jpg
ORGANIZER;CN="Jerb%C3%A9ras":MAILTO:Info@Jerberas.IT
GEO:40.829059;17.320134
X-APPLE-STRUCTURED-LOCATION;VALUE=URI;X-ADDRESS=Jerbéras Club Viale Toledo 4 Selva di Fasano BR 72010 Italia;X-APPLE-RADIUS=500;X-TITLE=Viale Toledo\, 4:geo:17.320134,40.829059
END:VEVENT
END:VCALENDAR