BEGIN:VCALENDAR
VERSION:2.0
PRODID:-//Lombardi Music - ECPv6.15.20//NONSGML v1.0//EN
CALSCALE:GREGORIAN
METHOD:PUBLISH
X-ORIGINAL-URL:https://www.listal.it
X-WR-CALDESC:Eventi per Lombardi Music
REFRESH-INTERVAL;VALUE=DURATION:PT1H
X-Robots-Tag:noindex
X-PUBLISHED-TTL:PT1H
BEGIN:VTIMEZONE
TZID:Europe/Rome
BEGIN:DAYLIGHT
TZOFFSETFROM:+0100
TZOFFSETTO:+0200
TZNAME:CEST
DTSTART:20150329T010000
END:DAYLIGHT
BEGIN:STANDARD
TZOFFSETFROM:+0200
TZOFFSETTO:+0100
TZNAME:CET
DTSTART:20151025T010000
END:STANDARD
BEGIN:DAYLIGHT
TZOFFSETFROM:+0100
TZOFFSETTO:+0200
TZNAME:CEST
DTSTART:20160327T010000
END:DAYLIGHT
BEGIN:STANDARD
TZOFFSETFROM:+0200
TZOFFSETTO:+0100
TZNAME:CET
DTSTART:20161030T010000
END:STANDARD
BEGIN:DAYLIGHT
TZOFFSETFROM:+0100
TZOFFSETTO:+0200
TZNAME:CEST
DTSTART:20170326T010000
END:DAYLIGHT
BEGIN:STANDARD
TZOFFSETFROM:+0200
TZOFFSETTO:+0100
TZNAME:CET
DTSTART:20171029T010000
END:STANDARD
END:VTIMEZONE
BEGIN:VEVENT
DTSTART;TZID=Europe/Rome:20160109T230000
DTEND;TZID=Europe/Rome:20160110T060000
DTSTAMP:20260420T150316
CREATED:20160105T130222Z
LAST-MODIFIED:20160107T062729Z
UID:1249-1452380400-1452405600@www.listal.it
SUMMARY:9.1 #FUSE w/ #DjPete aka #SUBSTANCE [Chain Reaction/Grounded Theory/Hardwax] @Hyper Disco
DESCRIPTION:Il progetto FUSE LAB. nasce dalla voglia di portare agli occhi del pubblico un Concept di Clubbing con un Livello Musicale di Qualità\, nell’ormai storico scenario dell’Hyper Disco di Alberobello.\nL’obiettivo comune è quello di un Party in cui il Pubblico possa sentirsi a suo agio con Musica & Ambiente\, valorizzando Artisti Locali & Internazionali. \nFUSE presents: \n\nSubstance aka DJ Pete [ Grounded Theory Berlin / Chain Reaction / HARDWAX ]\n\nFUSE w/ DJ PETE aka SUBSTANCE [Chain Reaction/Grounded Theory/Hardwax] @Hyper Disco “Dando uno sguardo alla scena Techno Berlinese\, è difficile perdersi il nome di DJ Pete. Non è soltanto un testimone oculare delle origini della Techno a Berlino\, ma è anche diventato una delle prime potenze a formare la scena dance underground della capitale tedesca per gli anni a venire.\nÈ passato rapidamente dall’essere un fruitore allo scrivere personalmente la storia della Techno di Berlino nelle vesti di produttore\, remixer e DJ di fama internazionale\, entrando anche a far parte della HARDWAX record store crew.\nAscoltando DJ Pete\, si resta sorpresi da come la sua esperienza si sia rafforzata costantemente nell’arco di due splendidi decenni. I suoi set comprendono una grande gamma di tendenze che hanno caratterizzato la musica nel corso degli ultimi 20 anni. Le sue energetiche performance si basano su loop-y Techno con delle influenze Industrial\, più raramente House\, dal Sound proverbiale di Berlino\, così come dalla classica Techno americana. Uno dei suoi maggiori punti di forza consiste nel mantenere sapientemente l’equilibrio tra il farsi apprezzare dalla massa ed avere sempre la mente aperta a nuove sonorità. Muoversi tra le due necessità è la principale fonte di ispirazione di DJ Pete\, che le evidenzia arricchendo i suoi set con influenze Dubstep vicine alla Techno.\nUn altro ottimo esempio della sua varietà e mente aperta è il fatto che lui – come DJ amante della qualità sonora e tattile del vinile – ha rilasciato “Scion Arrange And Process Basic Channel Tracks” come parte del duo Scion\, che fu il primo cd in assoluto disponibile sul commercio prodotto con il poi completato nuovo software Ableton Live. Nel 1995\, il duo Scion ha rilasciato “Emerge” su Chain Reaction\, seguito da diverse produzioni sotto il suo pseudonimo Substance su Chain Reaction e Scion Versions\, così come remix per artisti del calibro di Juan Atkins\, Robert Hood e Rhythm & Sound“. \nhttp://www.residentadvisor.net/dj/djpete\nhttps://www.facebook.com/Substance-aka-DJ-Pete-51660522098/\n \nSupported by: \n\nKonrad [ SK Recordings / Trau-ma ]\nhttps://www.facebook.com/KonradItaly/\n\n \n\nDistracted SIDES [ IL SUONO ]\nhttps://www.facebook.com/DistractedSIDES-1525890854335152/\n\n \n\nRe.wind aka Riccardo Damasco [ FUSE LAB. ]\nhttp://www.residentadvisor.net/profile/re.wind\nhttps://soundcloud.com/re-wind-64431654\n\n☎ Info Prenotazioni\no\nClicca QUI (o compila il form in basso)Giando (Telegram) [1° canale preferito]\ne/o +393339446827 (WhatsApp) [2° canale preferito]\n\n← Precedente Grazie per la risposta. ✨\n\n\n					\n						\n							\n							\n						\n						\n						\n						\n						\n							\n								\n									\n										\n										\n									\n									\n										\n										\n									\n								\n							\n						\n						\n							\n								\n									\n									\n										\n									\n									\n									\n								\n							\n						\n					\n				\n\n\n\nNome e Cognome(obbligatorio)\n\n \n			\n				\n					\n						\n						\n						\n					\n				\n				\n			 \n	\n\n\nE-mail(obbligatorio)\n\n \n			\n				\n					\n						\n						\n						\n					\n				\n				\n			 \n	\n\n\nN° telefonico e/o WhatsApp(obbligatorio)\n\n \n			\n				\n					\n						\n						\n						\n					\n				\n				\n			 \n	\n\n\nSito web\n\n \n			\n				\n					\n						\n						\n						\n					\n				\n				\n			 \n	\n\n\nRichiesta(obbligatorio)\n\n \n			\n				\n					\n						\n						\n						\n					\n				\n				\n			\n	\n	\n\n				\n					\n				\n						Invia		\n		\n		\n	 \nΔ \n\nLink evento:\nFacebook: http://on.FuseLab.IT/20160109fb\nResident Advisor: http://on.FuseLab.IT/20160109ra \nPowered by FUSE LAB.\nhttp://www.FuseLab.IT \nSupported by:\nMusica e Parole\nIL SUONO\nOverdraw \nWeb Marketing\nLombardit.IT – Information Technology
URL:https://www.listal.it/event/20160109-fuse-dj-pete-substance-chain-reaction-grounded-theory-hardwax-hyper-disco-techno-alberobello-bari/
LOCATION:Hyper Disco\, S.P. 113 Monopoli - Alberobello\, km 17\, Alberobello\, BA\, 70011 \, Italia
CATEGORIES:Alberobello,Bari,Elettronica,House,Puglia,Tech-House,Techno
ATTACH;FMTTYPE=image/jpeg:https://www.listal.it/sito/wp-content/uploads/2016/01/20160109_1200.jpg
ORGANIZER;CN="FUSE LAB.":MAILTO:Giando@FuseLab.IT
GEO:40.801778;17.249735
X-APPLE-STRUCTURED-LOCATION;VALUE=URI;X-ADDRESS=Hyper Disco S.P. 113 Monopoli - Alberobello km 17 Alberobello BA 70011  Italia;X-APPLE-RADIUS=500;X-TITLE=S.P. 113 Monopoli - Alberobello\, km 17:geo:17.249735,40.801778
END:VEVENT
END:VCALENDAR