BEGIN:VCALENDAR
VERSION:2.0
PRODID:-//Lombardi Music - ECPv6.15.20//NONSGML v1.0//EN
CALSCALE:GREGORIAN
METHOD:PUBLISH
X-ORIGINAL-URL:https://www.listal.it
X-WR-CALDESC:Eventi per Lombardi Music
REFRESH-INTERVAL;VALUE=DURATION:PT1H
X-Robots-Tag:noindex
X-PUBLISHED-TTL:PT1H
BEGIN:VTIMEZONE
TZID:Europe/Rome
BEGIN:DAYLIGHT
TZOFFSETFROM:+0100
TZOFFSETTO:+0200
TZNAME:CEST
DTSTART:20140330T010000
END:DAYLIGHT
BEGIN:STANDARD
TZOFFSETFROM:+0200
TZOFFSETTO:+0100
TZNAME:CET
DTSTART:20141026T010000
END:STANDARD
BEGIN:DAYLIGHT
TZOFFSETFROM:+0100
TZOFFSETTO:+0200
TZNAME:CEST
DTSTART:20150329T010000
END:DAYLIGHT
BEGIN:STANDARD
TZOFFSETFROM:+0200
TZOFFSETTO:+0100
TZNAME:CET
DTSTART:20151025T010000
END:STANDARD
BEGIN:DAYLIGHT
TZOFFSETFROM:+0100
TZOFFSETTO:+0200
TZNAME:CEST
DTSTART:20160327T010000
END:DAYLIGHT
BEGIN:STANDARD
TZOFFSETFROM:+0200
TZOFFSETTO:+0100
TZNAME:CET
DTSTART:20161030T010000
END:STANDARD
BEGIN:DAYLIGHT
TZOFFSETFROM:+0100
TZOFFSETTO:+0200
TZNAME:CEST
DTSTART:20170326T010000
END:DAYLIGHT
BEGIN:STANDARD
TZOFFSETFROM:+0200
TZOFFSETTO:+0100
TZNAME:CET
DTSTART:20171029T010000
END:STANDARD
BEGIN:DAYLIGHT
TZOFFSETFROM:+0100
TZOFFSETTO:+0200
TZNAME:CEST
DTSTART:20180325T010000
END:DAYLIGHT
BEGIN:STANDARD
TZOFFSETFROM:+0200
TZOFFSETTO:+0100
TZNAME:CET
DTSTART:20181028T010000
END:STANDARD
END:VTIMEZONE
BEGIN:VEVENT
DTSTART;TZID=Europe/Rome:20170417T200000
DTEND;TZID=Europe/Rome:20170418T030000
DTSTAMP:20260422T181753
CREATED:20170604T015434Z
LAST-MODIFIED:20170604T022011Z
UID:1659-1492459200-1492484400@www.listal.it
SUMMARY:Concept Groove Happy Easter @ Jerbéras
DESCRIPTION:Lunedì 17.04 Pasquetta Concept Groove Happy Easter @ Jerbéras \n\n\nLINE UP\nDJ KOKKO [SEIMANI Rec.]\n \nVito Amati [Concept Groove / Jerbéras]\nPRNX [Concept Groove / Jerbéras]\n \nALL NIGHT LONG\nINGRESSO AGEVOLATO con LIMITATI BRACCIALETTI disponibili dal tuo P.R. di fiducia. \n☎ Info Prenotazioni\no\nClicca QUI (o compila il form in basso)Giando (Telegram) e/o +393339446827 (WhatsApp)\n\n← Precedente Grazie per la risposta. ✨\n\n\n					\n						\n							\n							\n						\n						\n						\n						\n						\n							\n								\n									\n										\n										\n									\n									\n										\n										\n									\n								\n							\n						\n						\n							\n								\n									\n									\n										\n									\n									\n									\n								\n							\n						\n					\n				\n\n\n\nNome e Cognome(obbligatorio)\n\n \n			\n				\n					\n						\n						\n						\n					\n				\n				\n			 \n	\n\n\nE-mail(obbligatorio)\n\n \n			\n				\n					\n						\n						\n						\n					\n				\n				\n			 \n	\n\n\nN° telefonico e/o WhatsApp(obbligatorio)\n\n \n			\n				\n					\n						\n						\n						\n					\n				\n				\n			 \n	\n\n\nSito web\n\n \n			\n				\n					\n						\n						\n						\n					\n				\n				\n			 \n	\n\n\nRichiesta(obbligatorio)\n\n \n			\n				\n					\n						\n						\n						\n					\n				\n				\n			\n	\n	\n\n				\n					\n				\n						Invia		\n		\n		\n	 \nΔ \n\n\nPowered by Concept Groove\nSupported by Jerbéras / Techno Clubber / Eventi Techno & After Puglia – Brindisi Bari Taranto + Province and many more… (contact for support)\nService: PAtechnologies\nGraphics: Allegra Brigata\nWeb Marketing: L1S.IT by Lombardit.IT – Information Technology \nPer ricevere le notifiche di tutti gli eventi iscriviti al gruppo Amici del Jerbéras Club!
URL:https://www.listal.it/event/20170417-concept-groove-happy-easter-jerberas/
LOCATION:Jerbéras Club\, Viale Toledo\, 4\, Selva di Fasano\, BR\, 72010\, Italia
CATEGORIES:Brindisi,Elettronica,House,Musica,Puglia,Selva di Fasano,Tech-House,Techno
ATTACH;FMTTYPE=image/jpeg:https://www.listal.it/sito/wp-content/uploads/2017/04/20170417_orig.jpeg
GEO:40.829059;17.320134
X-APPLE-STRUCTURED-LOCATION;VALUE=URI;X-ADDRESS=Jerbéras Club Viale Toledo 4 Selva di Fasano BR 72010 Italia;X-APPLE-RADIUS=500;X-TITLE=Viale Toledo\, 4:geo:17.320134,40.829059
END:VEVENT
BEGIN:VEVENT
DTSTART;TZID=Europe/Rome:20160328T235500
DTEND;TZID=Europe/Rome:20160329T060000
DTSTAMP:20260422T181753
CREATED:20160412T001326Z
LAST-MODIFIED:20160412T001326Z
UID:1367-1459209300-1459231200@www.listal.it
SUMMARY:Pasquetta Off @ExFadda (San Vito dei Normanni\, Brindisi)
DESCRIPTION:Lunedì 28 Marzo\, dopo il Super Pascaredda Spring Festival la festa continua all’ExFadda L’officina del Sapere per l’attesissimo Pasquetta Off! \nPasquetta Off 2016 @ExFadda\nOfficial AfterShow Torre Regina Giovanna\n\nLINE UP\n\n\nHISTORICAL HALL\nLIMO [ Transition LAB / Fachwerk / Substrato ]\n \nSaverio Panza [ Klub der Empathie ]\nhttp://www.soundcloud.com/gazzaneuklub \nJako (live) [ Transition LAB ]\n \nINNERSPACES [ FUSE ]\n \nG.Guarini [ Torre Regina Giovanna ]\n \n\n\nFAMILY ROOM\nSimone Altavilla [ Transition LAB ]\nNebel [ FUSE ]\n \nAndrea LPR [ Zeno Music ]\nGiovanni Manco [ Chicago Industry ]\n\n  \n\n \n☎ Info Prenotazioni Braccialetti Agevolazioni\no\nClicca QUI (o compila il form in basso)Giando (Telegram) [1° canale preferito]\ne/o +393339446827 (WhatsApp) [2° canale preferito]\n\n← Precedente Grazie per la risposta. ✨\n\n\n					\n						\n							\n							\n						\n						\n						\n						\n						\n							\n								\n									\n										\n										\n									\n									\n										\n										\n									\n								\n							\n						\n						\n							\n								\n									\n									\n										\n									\n									\n									\n								\n							\n						\n					\n				\n\n\n\nNome e Cognome(obbligatorio)\n\n \n			\n				\n					\n						\n						\n						\n					\n				\n				\n			 \n	\n\n\nE-mail(obbligatorio)\n\n \n			\n				\n					\n						\n						\n						\n					\n				\n				\n			 \n	\n\n\nN° telefonico e/o WhatsApp(obbligatorio)\n\n \n			\n				\n					\n						\n						\n						\n					\n				\n				\n			 \n	\n\n\nSito web\n\n \n			\n				\n					\n						\n						\n						\n					\n				\n				\n			 \n	\n\n\nRichiesta(obbligatorio)\n\n \n			\n				\n					\n						\n						\n						\n					\n				\n				\n			\n	\n	\n\n				\n					\n				\n						Invia		\n		\n		\n	 \nΔ \n\n \nPasquetta Off @ExFadda (San Vito dei Normanni\, Brindisi)
URL:https://www.listal.it/event/20160329-pasquetta-off-exfadda-san-vito-dei-normanni-brindisi/
LOCATION:ExFadda L’officina del Sapere (San Vito dei Normanni\, Brindisi)\, Via Brindisi\, San Vito dei Normanni\, Brindisi\, 72019\, Italia
CATEGORIES:Brindisi,Elettronica,Puglia,San Vito dei Normanni,Tech-House,Techno
ATTACH;FMTTYPE=image/jpeg:https://www.listal.it/sito/wp-content/uploads/2016/04/20160329.jpg
GEO:40.659063;17.712429
X-APPLE-STRUCTURED-LOCATION;VALUE=URI;X-ADDRESS=ExFadda L’officina del Sapere (San Vito dei Normanni Brindisi) Via Brindisi San Vito dei Normanni Brindisi 72019 Italia;X-APPLE-RADIUS=500;X-TITLE=Via Brindisi:geo:17.712429,40.659063
END:VEVENT
BEGIN:VEVENT
DTSTART;TZID=Europe/Rome:20160328T100000
DTEND;TZID=Europe/Rome:20160328T235500
DTSTAMP:20260422T181753
CREATED:20160411T074250Z
LAST-MODIFIED:20160411T074250Z
UID:1357-1459159200-1459209300@www.listal.it
SUMMARY:Pascaredda Spring Festival 2016 - Pasquetta @Torre Regina Giovanna (Apani\, Brindisi)
DESCRIPTION:Pascaredda Spring Festival 2016 – Pasquetta @Torre Regina Giovanna (Apani\, Brindisi) #PSF2016 \nUn tendone da circo in mezzo al grano\, con spettacoli per grandi e piccini\, onirici stages musicali per tutti i gusti\, spazi attrezzati per campeggi e picnic\, mercatini\, installazioni\, performance ed informance. \n\n\nCome da consuetudine sarà possibile introdurre cibi e bevande\, fatto salvo le bottiglie di vetro. \nPascaredda Spring Festival 2016 – Pasquetta @Torre Regina Giovanna (Apani\, Brindisi) \nDa quest’anno sarà possibile prenotare una tepee nel family camping\, una nuova area con accesso esclusivo alle famiglie con bambini.\nAnche quest’anno sarà possibile entrare gratuitamente portando con se una bandiera (vera) (entro le 14).\nL’intero festival sarà trasmesso in diretta radio sulle frequenze di Ciccio Riccio.\nPresente il Circo di Spagna.\nArea Market – Il mercatino di pascaredda (Vintage – Dischi – Libri – Accessori – Riciclo creativo – Handmade)\nParte del ricavato sarà devoluto a tutte le varie onlus presenti.\nSarà possibile introdurre animali al guinzaglio; non sarà possibile introdurre maleducazione!\nI botteghini sono stati notevolmente potenziati per scongiurare file all’ingresso.\nUn immane lavoro è stato realizzato per farvi godere di uno spazio rinnovato scenograficamente.\nContiamo sempre come sempre sul vostro entusiasmo! \n‪#‎PSF2016‬\, il primo festival di concezione europea.\nNon diffidate dalle ispirazioni\, diffidate dalle imitazioni! \n▽ BACCATANI MAIN STAGE) \n– Folkabbestia – La Municipàl – Maffei – Telepathic Dreambox\n– Pascaredda Spring Official Band\nHeadliner: Vallanzaska \n▽ BEAT HOTEL) \n☀ Transition LAB\n– Limo – Buck – Joyfull Family – Jako (live)\n– Alfredo Caforio – Antonio Passero\nSpecial Guest: Ayarcana \n▽ MOTEL REGINA) \n☀ BLOW UP PARTY\n– Carl Osce B2B Andrè The Gaws – Joe Stepper\n– Haze – Giaco – Yazukv –\nSpecial Guest : Retrohandz \n☀ Upgrade Music e Project\n– Mario Borromeo – Vaco dj – Dodo \n▽ THE ROCK) \n☀ Panic Rock – Marco Maffei + ospite a sorpresa \n▽ SUNSET SQUARE) \n☀ SALENTO FUN PARK\n– NUCK – Weaze – SensiSmoka – FIRE BURN SOUND\n– Special Guest: HEAVY HAMMER SOUND SYSTEM \n________________________________________________\nApertura cancelli ore 10:00 – Chiusura ore 00:00 (mezzanotte)\nPrezzo di ingresso: 5 Euro entro le ore 14:00 – dopo 10 euro.\nI bambini fino a 12 anni non pagano. \n\nCome da tradizione ormai\, anche quest’anno la formula sarà LOW COST per non snaturare quella che è l’essenza del lunedì di pasquetta. Perciò il PICNIC sarà assolutamente FREE!!!!\nE allora via con teli e vettovaglie\, aquiloni e palloni\, diavolina e carboni\, allegria ed educazione.\nLe uniche due cose che non sarà consentito introdurre nella struttura sono vetro e superalcolici. (si al vino\, birra etc)\nAltra cosa che sarà assolutamente vietato portare è la Musica!\nA quella come ogni anno ci penseranno abbondantemente loro! \n☎ Info Prenotazioni Agevolazioni\no\nClicca QUI (o compila il form in basso)Giando (Telegram) [1° canale preferito]\ne/o +393339446827 (WhatsApp) [2° canale preferito]\n\n← Precedente Grazie per la risposta. ✨\n\n\n					\n						\n							\n							\n						\n						\n						\n						\n						\n							\n								\n									\n										\n										\n									\n									\n										\n										\n									\n								\n							\n						\n						\n							\n								\n									\n									\n										\n									\n									\n									\n								\n							\n						\n					\n				\n\n\n\nNome e Cognome(obbligatorio)\n\n \n			\n				\n					\n						\n						\n						\n					\n				\n				\n			 \n	\n\n\nE-mail(obbligatorio)\n\n \n			\n				\n					\n						\n						\n						\n					\n				\n				\n			 \n	\n\n\nN° telefonico e/o WhatsApp(obbligatorio)\n\n \n			\n				\n					\n						\n						\n						\n					\n				\n				\n			 \n	\n\n\nSito web\n\n \n			\n				\n					\n						\n						\n						\n					\n				\n				\n			 \n	\n\n\nRichiesta(obbligatorio)\n\n \n			\n				\n					\n						\n						\n						\n					\n				\n				\n			\n	\n	\n\n				\n					\n				\n						Invia		\n		\n		\n	 \nΔ \n\nVuoi entrare GRATIS al ‪#‎PSF2016‬?\nAnche quest’anno sara facile e possibile per tutti!\nQui vi spieghiamo brevemente come fare.\nSarà sufficiente presentarsi al botteghino (ingresso) con una VERA BANDIERA (munita di asta) che rispetti qualche piccolissimo criterio :\n– Grandezza\, non inferiore a Larghezza 0\,80 mt – Lung 1\,20 mt\n– NO squadre di club (si nazionali)\n– NO partiti politici\n– Arrivare entro le ore 14:00\nPs: saranno accettate solo VERE bandiere mentre non saranno ritenute idonee quelle composte (con lenzuola e aste) e messe insieme in modo approssimativo. \nPostazione “I Love Radio Rock”.\nUn’ installazione\, una nave di musica che vi accoglierà all’ingresso della struttura\, con lo staff di Ciccio Riccio\, che vi racconterà in diretta il festival\, tra musica\, interviste news e curiosità. In Frequenze medie per Puglia\, Calabria e Basilicata e in streaming sul sito della Radio.
URL:https://www.listal.it/event/20160328-pascaredda-spring-festival-2016-pasquetta-torre-regina-giovanna-apani-brindisi/
LOCATION:Torre Regina Giovanna\, Contrada Baccatani\, Apani\, BR\, 72012\, Italia
CATEGORIES:Apani,Brindisi,Commerciale,Elettronica,House,Puglia,Tech-House,Techno
ATTACH;FMTTYPE=image/jpeg:https://www.listal.it/sito/wp-content/uploads/2016/04/20160328.jpg
GEO:40.694639;17.797648
X-APPLE-STRUCTURED-LOCATION;VALUE=URI;X-ADDRESS=Torre Regina Giovanna Contrada Baccatani Apani BR 72012 Italia;X-APPLE-RADIUS=500;X-TITLE=Contrada Baccatani:geo:17.797648,40.694639
END:VEVENT
BEGIN:VEVENT
DTSTART;TZID=Europe/Rome:20150406T170000
DTEND;TZID=Europe/Rome:20150407T020000
DTSTAMP:20260422T181753
CREATED:20150401T000612Z
LAST-MODIFIED:20151024T035629Z
UID:800-1428339600-1428372000@www.listal.it
SUMMARY:06-04 Pasquetta After Tea al Jerbéras Club
DESCRIPTION:Lunedì 06-04 Pasquetta After Tea al Jerbéras Club\nPasquetta After Tea\nal\nJerbéras Club \nVi aspettiamo nella location rivisitata per splendere ancor di più per eccellenza.\nImmersa tra gli alberi della #Selva di #Fasano\, con accorgimenti tecnici audio e visivi che caratterizzano il nostro modo di fare #PARTY.\nIl tutto curato da un service #TOP di gamma\, il cui lavoro è amplificato dalle caratteristiche strutturali del nostro amato Club.\n_______________________________________\nLine Up:\n\n• Bsized – Big [ MM REC ]\nfacebook.com/pages/Bsized-Big/676025685815072 \n• ANTONY D [ MM REC / MM AUDIO ]\nfacebook.com/AntonyDmusic \n• Giovanni Indiveri [ Jerbéras ]\nfacebook.com/Giovanni.J.Indiveri\n______________________________________\nPowered by Jerbèras Club \nPRomoted by Lombardit.IT – Information Technology \nWebsite: ListaL.IT & http://Lombardit.IT/\nTwitter: twitter.com/Lombardi_Music\nFacebook: facebook.com/LombardiMM\nInstagram: instagram.com/Lombardi_Music\n•••••••••••••••••••••••••••••••••••\nIngresso in LISTA \n– Dalle 17:00 alle 20:00 Uomo/Donna 5€\n– Dalle 20:00 in poi Uomo/Donna 8€ \n**************************************************\nPunto launch ufficiale/predisco: Checcos’è?\n************************************************** \nAGEVOLAZIONI / INFO: \n☎ +39 3356351239 – Jerbéras\n☎ +39 3339446827 – Lista Lombardi [SMS/WhatsApp]\nposta privata Facebook\nLista@Lombardit.IT – (email)\n••••••••••••••••••••••••••••••••••••\nJerbèras Club\nViale Toledo N.4 – Selva Di Fasano\, Puglia\, Italy \n#6aprile #Pasquetta #After #Tea #Jerberas #Club #Bsized #Big #AntonyD #Giovanni #Indiveri #Musica #Techno #Puglia #Eventi #Night #Fasano
URL:https://www.listal.it/event/06-04-pasquetta-after-tea-al-jerberas-club/2015-04-06/
LOCATION:Jerbéras Club\, Viale Toledo\, 4\, Selva di Fasano\, BR\, 72010\, Italia
CATEGORIES:Brindisi,Elettronica,House,Puglia,Selva di Fasano,Tech-House,Techno
ATTACH;FMTTYPE=image/jpeg:https://www.listal.it/sito/wp-content/uploads/2015/08/20150406.jpg
ORGANIZER;CN="Jerb%C3%A9ras":MAILTO:Info@Jerberas.IT
GEO:40.829059;17.320134
X-APPLE-STRUCTURED-LOCATION;VALUE=URI;X-ADDRESS=Jerbéras Club Viale Toledo 4 Selva di Fasano BR 72010 Italia;X-APPLE-RADIUS=500;X-TITLE=Viale Toledo\, 4:geo:17.320134,40.829059
END:VEVENT
END:VCALENDAR